BEGIN:VCALENDAR
VERSION:2.0
PRODID:-//ChamberMaster//Event Calendar 2.0//EN
METHOD:PUBLISH
X-PUBLISHED-TTL:P3D
REFRESH-INTERVAL:P3D
CALSCALE:GREGORIAN
BEGIN:VEVENT
DTSTART:20250514T203000Z
DTEND:20250514T223000Z
X-MICROSOFT-CDO-ALLDAYEVENT:FALSE
SUMMARY:Workshop: Home Improvement Contracts - An Overview and Critical Update
DESCRIPTION:Builders\, Remodelers & Home Improvement Contractors\n\nHome Improvement Contracts -\n\nAn Overview and Critical Update\n                                  \n\n\n\nThe Builders League of South Jersey (BLSJ) has invited Cherry Hill construction attorney and long-time BLSJ member Robert J. Incollingo to speak and answer your questions at an upcoming seminar on residential construction contracts\, on Wednesday\, May 14\, 2025 at the Taproom & Grill\, 427 West Crystal Lake Avenue in Haddon Township\, New Jersey 08033.  Registration: 4:30 pm.  Program: 5:00pm - 6:30pm.   Mr. Incollingo will inform the members on how better to frame and present home improvement contracts in this time of licensing and regulatory upheaval.
X-ALT-DESC;FMTTYPE=text/html:<div style="text-align: center\;"><span style="font-size:14px\;">Builders\, Remodelers &amp\; Home Improvement Contractors</span><br />\n<span style="font-family:aptos\,sans-serif\;"><span style="font-size:16.0pt\;">Home Improvement Contracts -<br />\nAn Overview and Critical Update</span></span></div>\n&nbsp\;&nbsp\;&nbsp\;&nbsp\;&nbsp\;&nbsp\;&nbsp\;&nbsp\;&nbsp\;&nbsp\;&nbsp\;&nbsp\;&nbsp\;&nbsp\;&nbsp\;&nbsp\;&nbsp\;&nbsp\;&nbsp\;&nbsp\;&nbsp\;&nbsp\;&nbsp\;&nbsp\;&nbsp\;&nbsp\;&nbsp\;&nbsp\;&nbsp\;&nbsp\;&nbsp\;&nbsp\;&nbsp\;&nbsp\;<br />\n<br />\n<span style="font-family:aptos\,sans-serif\;"><span style="font-size:16.0pt\;"><span style="font-size:16px\;">The Builders League of South Jersey (BLSJ) has invited Cherry Hill construction attorney and long-time BLSJ member Robert J. Incollingo to speak and answer your questions at an upcoming seminar on residential construction contracts\, on Wednesday\, May 14\, 2025 at the Taproom &amp\; Grill\, 427 West Crystal Lake Avenue in Haddon Township\, New Jersey 08033.&nbsp\; Registration: 4:30 pm.&nbsp\; Program: 5:00pm - 6:30pm.&nbsp\;&nbsp\; Mr. Incollingo will inform the members on how better to frame and present home improvement contracts in this time of licensing and regulatory upheaval.&nbsp\;</span> </span></span><br />\n&nbsp\;
LOCATION:The Taproom & Grill 427 W Crystal Lake Ave. Haddonfield\, NJ 08033
UID:e.9292.3838
SEQUENCE:3
DTSTAMP:20260426T015002Z
URL:http://blsj.memberzone.com/events/details/workshop-home-improvement-contracts-an-overview-and-critical-update-3838
END:VEVENT

END:VCALENDAR
