BEGIN:VCALENDAR
VERSION:2.0
PRODID:-//ChamberMaster//Event Calendar 2.0//EN
METHOD:PUBLISH
X-PUBLISHED-TTL:P3D
REFRESH-INTERVAL:P3D
CALSCALE:GREGORIAN
BEGIN:VEVENT
DTSTART:20250722T190000Z
DTEND:20250722T200000Z
X-MICROSOFT-CDO-ALLDAYEVENT:FALSE
SUMMARY:Shop Talk: Mastering the Money: Smarter Financial Strategies for Builders and Remodelers
DESCRIPTION:Description\n\nJoin moderator Monica Wheaton\, Vice President of Customer Success at ECI Software Solutions\, along with members of the NAHB BMIT Committee for a live discussion on July 22 at 3 p.m. ET.\n\nLearn how to identify and allocate indirect costs within job estimates\, mark them up properly and control them through your costing system.\n\nWe'll also walk through a fast\, flexible method for building an overhead budget using company data and your current goals   one that accounts for inflation\, avoids missed expenses and supports a solid pricing model. Join fellow professionals to learn how to reduce slippage\, boost profitability and stay competitive in any market.\n\nDon't miss this insightful conversation register today!\n\n\n\nNOTE: This Shop Talk will be recorded for use on NAHB.org. By registering for this discussion\, you agree to participate.
X-ALT-DESC;FMTTYPE=text/html:<div -webkit-text-stroke-width:="" background-color:="" class="zm-col zm-col-6" data-v-21921d39="" font-size:="" font-style:="" font-variant-caps:="" font-variant-ligatures:="" font-weight:="" helvetica="" letter-spacing:="" orphans:="" style="box-sizing: border-box\; padding: 0px\; margin: 0px\; float: left\; width: 121.6px\; line-height: 24px\; color: rgb(35\, 35\, 51)\; font-family: " text-align:="" text-decoration-color:="" text-decoration-style:="" text-decoration-thickness:="" text-indent:="" text-transform:="" white-space:="" widows:="" word-spacing:=""><span style="font-size:14px\;"><span style="font-family:arial\;">Description</span></span></div>\n\n<div -webkit-text-stroke-width:="" background-color:="" class="pdl-xs w-sp w-bk zm-col zm-col-18" data-v-21921d39="" font-size:="" font-style:="" font-variant-caps:="" font-variant-ligatures:="" font-weight:="" helvetica="" letter-spacing:="" orphans:="" style="box-sizing: border-box\; padding-top: 0px\; padding-right: 0px\; padding-bottom: 0px\; padding-left: 4px !important\; margin: 0px\; float: left\; width: 364.8px\; white-space: pre-wrap\; line-height: 24px\; overflow-wrap: break-word\; color: rgb(35\, 35\, 51)\; font-family: " text-align:="" text-decoration-color:="" text-decoration-style:="" text-decoration-thickness:="" text-indent:="" text-transform:="" widows:="" word-spacing:=""><span style="font-size:14px\;"><span style="font-family:arial\;">Join moderator Monica Wheaton\, Vice President of Customer Success at ECI Software Solutions\, along with members of the NAHB BMIT Committee for a live discussion on July 22 at 3 p.m. ET.<br />\nLearn how to identify and allocate indirect costs within job estimates\, mark them up properly and control them through your costing system.<br />\nWe&rsquo\;ll also walk through a fast\, flexible method for building an overhead budget using company data and your current goals &ndash\; one that accounts for inflation\, avoids missed expenses and supports a solid pricing model. Join fellow professionals to learn how to reduce slippage\, boost profitability and stay competitive in any market.<br />\nDon&rsquo\;t miss this insightful conversation&mdash\;register today!<br />\n<br />\nNOTE: This Shop Talk will be recorded for use on NAHB.org. By registering for this discussion\, you agree to participate.</span></span></div>\n
LOCATION:Register here.
UID:e.9292.3867
SEQUENCE:3
DTSTAMP:20260425T191646Z
URL:http://blsj.memberzone.com/events/details/shop-talk-mastering-the-money-smarter-financial-strategies-for-builders-and-remodelers-3867
END:VEVENT

END:VCALENDAR
