BEGIN:VCALENDAR
VERSION:2.0
PRODID:-//ChamberMaster//Event Calendar 2.0//EN
METHOD:PUBLISH
X-PUBLISHED-TTL:P3D
REFRESH-INTERVAL:P3D
CALSCALE:GREGORIAN
BEGIN:VEVENT
DTSTART:20250729T170000Z
DTEND:20250729T180000Z
X-MICROSOFT-CDO-ALLDAYEVENT:FALSE
SUMMARY:Shop Talk: Essential Steps to Building a Strong Digital Network
DESCRIPTION:Join Josh Christian\, CEO of Home Technology Association\, for a live discussion on July 29 at 1:00 p.m. ET about building a strong digital network.\n\nLearn how professionally installed wired and wireless networks are crucial for creating reliable\, high-performance systems.\n\n\n\nWe'll cover how these networks improve connectivity\, support modern technology and ensure seamless operation in any environment.\n\n\n\nExperts will share best practices\, installation tips\, and the importance of these networks in maintaining efficiency and performance.\n\nDon't miss this insightful conversation register today!\n\nNOTE: This Shop Talk will be recorded for use on NAHB.org. By registering for this discussion\, you agree to participate.
X-ALT-DESC;FMTTYPE=text/html:<p class="pf0"><span style="font-size:14px\;"><span style="font-family:arial\;"><span class="cf0">Join Josh Christian\, CEO of Home Technology Association\, for a live discussion on July 29 at 1:00 p.m. ET about building a strong digital network.</span></span></span></p>\n\n<p class="pf0"><span style="font-size:14px\;"><span style="font-family:arial\;"><span class="cf0">Learn how professionally installed wired and wireless networks are crucial for creating reliable\, high-performance systems.<br />\n<br />\nWe&rsquo\;ll cover how these networks improve connectivity\, support modern technology and ensure seamless operation in any environment.<br />\n<br />\nExperts will share best practices\, installation tips\, and the importance of these networks in maintaining efficiency and performance.</span></span></span></p>\n\n<p class="pf0"><span style="font-size:14px\;"><span style="font-family:arial\;"><span class="cf0">Don&rsquo\;t miss this insightful conversation</span><span class="cf1">&mdash\;register today!</span></span></span></p>\n\n<p class="pf0"><span style="font-size:14px\;"><span style="font-family:arial\;"><span class="cf1">NOTE: This Shop Talk will be recorded for use on NAHB.org. By registering for this discussion\, you agree to participate.</span></span></span></p>\n
LOCATION:
UID:e.9292.3868
SEQUENCE:3
DTSTAMP:20260425T191334Z
URL:http://blsj.memberzone.com/events/details/shop-talk-essential-steps-to-building-a-strong-digital-network-3868
END:VEVENT

END:VCALENDAR
