BEGIN:VCALENDAR
VERSION:2.0
PRODID:-//ChamberMaster//Event Calendar 2.0//EN
METHOD:PUBLISH
X-PUBLISHED-TTL:P3D
REFRESH-INTERVAL:P3D
CALSCALE:GREGORIAN
BEGIN:VEVENT
DTSTART:20250410T133000Z
DTEND:20250410T153000Z
X-MICROSOFT-CDO-ALLDAYEVENT:FALSE
SUMMARY:Seminar: Bonding\, Workers’ comp\, Irrevocable letter of credit etc.
DESCRIPTION:Builders\, Remodelers & Home Improvement Contractors \n\nWhat You Need to Know About:\n\nBonding\, Workers' Comp and Irrevocable Letter of Credit and More \n\n\n\nGuest Speaker:\n\nLloyd Humphrey\, CIC\, CLCS\, Sr. VP & Managing Partner\n\nInsurance office of America\n\n\n\nWhat You Need to Know About:\n\nBuilder's Risk:\n\nJust a few issues that are often missed.\n\nEmployment Practices:\n\nWhy be concerned even in smaller or family-oriented companies.\n\nBonding:\n\nThe BIG issues that concern insurers.\n\n Irrevocable letter of credit:\n\nSo\, what do I need to know and worry about?\n\n Workers Compensation: \n\nOften confusing facts about how it really works and a couple of the dangers.\n\n Construction defects:\n\nMade simple.\n\n Owned property issues in construction:\n\nWait\, I carry replacement cost so isn't that as good as it gets?\n\n\n\nSpeaker Bio: Lloyd is a senior vice president\, managing partner\, and a former member of the board of directors with Insurance Office of America. He has over 35 years of experience in the insurance industry\, specializing in the transportation\, construction\, special services and public and nonprofit sectors.\n\nLloyd oversees the mid-Atlantic operations of IOA and is responsible for the Delaware Valley\, East Hanover and Baltimore branch offices.
X-ALT-DESC;FMTTYPE=text/html:<div><span style="font-family:arial\;"><span style="font-size:18px\;"><strong><span style="text-transform:uppercase\;">Builders\, Remodelers &amp\; Home Improvement Contractors&nbsp\;</span></strong></span></span></div>\n\n<div style="text-align: center\;"><span style="font-family:arial\;"><strong><span style="font-size:14.0pt\;">What You Need to Know About:</span></strong><br />\n<span style="font-size:14px\;"><strong><span style="text-transform:uppercase\;">Bonding\, Workers&rsquo\; Comp and Irrevocable Letter of Credit and More&hellip\;</span></strong><br />\n<br />\n<span style="text-transform:uppercase\;"><strong><span style="font-size:16px\;">Guest Speaker:</span></strong></span></span><br />\n<strong><span style="font-size:16px\;"><span style="text-transform:uppercase\;">Lloyd Humphrey\, CIC\, CLCS\, Sr. VP &amp\; Managing Partner<br />\nInsurance office of America</span></span></strong><br />\n<br />\n<span style="font-size:20px\;"><strong>What You Need to Know About:</strong></span><br />\n<strong><span style="text-transform:uppercase\;">Builder&rsquo\;s Risk</span></strong>:<br />\nJust a few issues that are often missed.<br />\n<strong><span style="text-transform:uppercase\;">Employment Practices</span></strong><span style="text-transform:uppercase\;">:</span><br />\nWhy be concerned even in smaller or family-oriented companies.<br />\n<strong><span style="text-transform:uppercase\;">Bonding:</span></strong><br />\nThe <strong><em>BIG</em></strong> issues that concern insurers.<br />\n<strong><span style="text-transform:uppercase\;">&nbsp\;Irrevocable letter of credit:</span></strong><br />\nSo\, what do I need to know and worry about?<br />\n<strong><span style="text-transform:uppercase\;">&nbsp\;Workers Compensation: </span></strong><br />\nOften confusing facts about how it really works and a couple of the dangers.<br />\n<strong><span style="text-transform:uppercase\;">&nbsp\;Construction defects:</span></strong><br />\nMade simple.<br />\n<strong><span style="text-transform:uppercase\;">&nbsp\;Owned property issues in construction:</span></strong><br />\nWait\, I carry replacement cost so isn&rsquo\;t that as good as it gets?<br />\n<br />\n<strong>Speaker Bio:</strong> Lloyd is a senior vice president\, managing partner\, and a former member of the board of directors with Insurance Office of America.&nbsp\;He has over 35 years of experience in the insurance industry\, specializing in the transportation\, construction\, special services and public and nonprofit sectors.<br />\nLloyd oversees the mid-Atlantic operations of IOA and is responsible for the Delaware Valley\, East Hanover and Baltimore branch offices.</span><br />\n&nbsp\;</div>\n
LOCATION:
UID:e.9292.3835
SEQUENCE:3
DTSTAMP:20260426T001122Z
URL:http://blsj.memberzone.com/events/details/seminar-bonding-workers-comp-irrevocable-letter-of-credit-etc-3835
END:VEVENT

END:VCALENDAR
