BEGIN:VCALENDAR
VERSION:2.0
PRODID:-//ChamberMaster//Event Calendar 2.0//EN
METHOD:PUBLISH
X-PUBLISHED-TTL:P3D
REFRESH-INTERVAL:P3D
CALSCALE:GREGORIAN
BEGIN:VEVENT
DTSTART:20250513T150000Z
DTEND:20250513T163000Z
X-MICROSOFT-CDO-ALLDAYEVENT:FALSE
SUMMARY:Sales & Marketing Council Workshop: Why You Should Enter the 2025 AWARDS OF EXCELLENCE
DESCRIPTION:Why You Should Enter the \n\n2025\n\nBuilding & Remodeling Industry\n\nAwards of Excellence\n\nThese Awards are Available to ALL BLSJ Members...\n\nPlease attend this workshop & learn how you can enter and win!\n\n\n\nIncluding Tips ~ Tricks ~ Tools & Resources\n\nfor Successful Entry Submissions\n\nThis prestigious awards program recognizes not just builders\, developers\, and remodelers but our associate members as well for their outstanding achievements in the fields of new home construction\, remodeling\, commercial building\, interior design\, architectural design advertising\, signage\, landscape design\, engineering and sales and marketing & more \n\nAlso\, we will be previewing the LAUNCH of our new Awards entry portal along with a tour of the new portal and a demonstration of how to get started using it to submit\n\nyour Awards of Excellence entries!\n\nAll entries will now be submitted online to our new portal designed especially for award programs\n\n (Enjoy Pizza & Beverages as you enjoy this informative program)\n\n\n\nDATE: Tuesday\, May 13\, 2025\n\nTIME: 11:00 AM   12:30 PM\n\nLOCATION: Builders League of South Jersey\n\n114 Haddontowne Ct.\, Cherry Hill\, NJ\n\nPIZZA & BEVERAGES\n\nProgram is FREE but you Must Register!\n\n\nBENEFITS OF ENTERING:\n\nBeing an award winner gives you increased public relations and marketing opportunities\, and can be the basis for an effective advertising campaign built on important third-party testimony about the quality of your award winning product or service.     \n\n \n\n Your credibility is enhanced with your buyers and clients when your peers recognize you with an award.  \n\n A Majors award allows you to take pride in your product and showcase your talents.\n\nPRESENTERS:\n\nJeanne Gamber\, SMC President\, Sales & Marketing Director\n\nBruce Paparone\, Inc. New Homes\n\nKim Littlehales\, Marketing Manager\, Bruce Paparone\, Inc. New Homes\n\nCosmo Losco\, Marketing Manager\, Cipriani Remodeling Solutions\n\nJack Parry\, Jr.\, Founding Senior Principle\, JRP Architects\, PC\n\n\n\n \n\nBe Envied!\n\nThe Awards of Excellence is one of the home building industry's most coveted awards.\n\nIt represents the best of the best!
X-ALT-DESC;FMTTYPE=text/html:<div style="text-align: center\;"><span style="font-family:arial\;"><strong><span style="color:windowtext\;"><span style="font-size:22.0pt\;">Why You Should Enter the </span></span><br />\n<span style="color:windowtext\;"><span style="font-size:22.0pt\;">2025<br />\nBuilding &amp\; Remodeling Industry<br />\nAwards of Excellence</span></span><br />\n<em>These Awards are Available to ALL BLSJ Members...<br />\nPlease attend this workshop &amp\; learn how you can enter and win!</em></strong></span></div>\n\n<div style="text-align: center\;"><br />\n<span style="font-family:arial\;"><strong><span style="font-size:14.0pt\;">Including&hellip\;Tips ~ Tricks ~ Tools &amp\; Resources<br />\nfor Successful Entry Submissions</span></strong></span></div>\n\n<div style="text-align: center\;"><span style="font-family:arial\;"><span style="font-size:16px\;">This prestigious awards program recognizes not just builders\, developers\, and remodelers but our associate members as well for their outstanding achievements in the fields of new home construction\, remodeling\, commercial building\, interior design\, architectural design advertising\, signage\, landscape design\, engineering and sales and marketing &amp\; more&hellip\;</span></span></div>\n\n<div style="text-align: center\;"><span style="font-family:arial\;"><strong><span style="font-size:16px\;"><span style="color:#FF0000\;">Also\, we will be previewing the LAUNCH of our new Awards entry portal along with a tour of the new portal and a demonstration of how to get started using it to submit<br />\nyour Awards of Excellence entries!</span><br />\nAll entries will now be submitted online to our new portal designed especially for award programs<br />\n&nbsp\;(Enjoy Pizza &amp\; Beverages as you enjoy this informative program)</span></strong><br />\n<br />\n<span style="font-size:16px\;"><strong>DATE:</strong> Tuesday\, May 13\, 2025<br />\n<strong>TIME:</strong> 11:00 AM &ndash\; 12:30 PM<br />\n<strong>LOCATION:</strong> Builders League of South Jersey<br />\n114 Haddontowne Ct.\, Cherry Hill\, NJ<br />\n<strong>PIZZA &amp\; BEVERAGES</strong><br />\nProgram is FREE but you Must Register!</span></span></div>\n<br />\n<span style="font-family:arial\;"><strong><span style="color:windowtext\;"><span style="font-size:14.0pt\;">BENEFITS OF ENTERING:</span></span></strong><br />\n<span style="color:windowtext\;"><span style="font-size:12.0pt\;">Being an award winner gives you increased public relations and marketing opportunities\, and can be the basis for an effective advertising campaign built on important third-party testimony about the quality of your award winning product or service.&nbsp\;&nbsp\;&nbsp\;&nbsp\; </span></span><br />\n&nbsp\;<br />\n<span style="color:windowtext\;"><span style="font-size:12.0pt\;">&macr\;</span></span><span style="color:windowtext\;"><span style="font-size:12.0pt\;">Your credibility is enhanced with your buyers and clients when your peers recognize you with an award.&nbsp\; </span></span><br />\n<span style="color:windowtext\;"><span style="font-size:12.0pt\;">&macr\;</span></span><span style="color:windowtext\;"><span style="font-size:12.0pt\;">A Majors award allows you to take pride in your product and showcase your talents.</span></span><br />\n<strong><span style="font-size:14.0pt\;">PRESENTERS:</span></strong><br />\n<strong><span style="font-size:14.0pt\;">Jeanne Gamber\, SMC President\, Sales &amp\; Marketing Director</span></strong><br />\n<span style="font-size:14.0pt\;">Bruce Paparone\, Inc. New Homes</span><br />\n<strong><span style="font-size:14.0pt\;">Kim Littlehales\, Marketing Manager\, </span></strong><span style="font-size:14.0pt\;">Bruce Paparone\, Inc. New Homes</span></span><br />\n<span style="font-family:arial\;"><strong><span style="font-size:14.0pt\;">Cosmo Losco\, Marketing Manager\,</span></strong><span style="font-size:14.0pt\;"> Cipriani Remodeling Solutions<br />\n<strong>Jack Parry\, Jr.\, Founding Senior Principle\,</strong> JRP Architects\, PC</span></span><br />\n<br />\n<span style="font-family:arial\;">&nbsp\;<br />\n<strong><span style="color:windowtext\;"><span style="font-size:13.5pt\;">Be Envied!</span></span></strong><br />\n<span style="color:windowtext\;"><span style="font-size:12.0pt\;">The Awards of Excellence is one of the home building industry&rsquo\;s most coveted awards.<br />\nIt represents the best of the best!</span></span></span><br />\n&nbsp\;
LOCATION:Builders League of South Jersey 114 Haddontowne Ct.\, Cherry Hill\, NJ
UID:e.9292.3798
SEQUENCE:3
DTSTAMP:20260425T221824Z
URL:http://blsj.memberzone.com/events/details/sales-marketing-council-workshop-why-you-should-enter-the-2025-awards-of-excellence-3798
END:VEVENT

END:VCALENDAR
