BEGIN:VCALENDAR
VERSION:2.0
PRODID:-//ChamberMaster//Event Calendar 2.0//EN
METHOD:PUBLISH
X-PUBLISHED-TTL:P3D
REFRESH-INTERVAL:P3D
CALSCALE:GREGORIAN
BEGIN:VEVENT
DTSTART:20250924T140000Z
DTEND:20250924T150000Z
X-MICROSOFT-CDO-ALLDAYEVENT:FALSE
SUMMARY:Sales & Marketing Council Meeting (SMC)
DESCRIPTION:
X-ALT-DESC;FMTTYPE=text/html:
LOCATION:Builders league of South Jersey 114 Haddontowne Court Cherry Hill\, NJ
UID:e.9292.3874
SEQUENCE:3
DTSTAMP:20260425T111028Z
URL:http://blsj.memberzone.com/events/details/sales-marketing-council-meeting-smc-3874
END:VEVENT

END:VCALENDAR
