BEGIN:VCALENDAR
VERSION:2.0
PRODID:-//ChamberMaster//Event Calendar 2.0//EN
METHOD:PUBLISH
X-PUBLISHED-TTL:P3D
REFRESH-INTERVAL:P3D
CALSCALE:GREGORIAN
BEGIN:VEVENT
DTSTART;VALUE=DATE:20250225
DTEND;VALUE=DATE:20250228
TRANSP:TRANSPARENT
X-MICROSOFT-CDO-ALLDAYEVENT:TRUE
SUMMARY:International Builders Show
DESCRIPTION:Click here for details on the NAHB International Builders Show.
X-ALT-DESC;FMTTYPE=text/html:<span style="font-size:14px\;">Click <strong><a href="https://www.buildersshow.com/">here</a></strong> for details on the NAHB International Builders Show.</span>
LOCATION:Las Vegas Convention Center (LVCC) 3150 Paradise Road Las Vegas\, NV 89109
UID:e.9292.3775
SEQUENCE:3
DTSTAMP:20260426T033324Z
URL:http://blsj.memberzone.com/events/details/international-builders-show-3775
END:VEVENT

END:VCALENDAR
