BEGIN:VCALENDAR
VERSION:2.0
PRODID:-//ChamberMaster//Event Calendar 2.0//EN
METHOD:PUBLISH
X-PUBLISHED-TTL:P3D
REFRESH-INTERVAL:P3D
CALSCALE:GREGORIAN
BEGIN:VEVENT
DTSTART:20260304T150000Z
DTEND:20260304T160000Z
X-MICROSOFT-CDO-ALLDAYEVENT:FALSE
SUMMARY:Builder and Remodeler Roundtable
DESCRIPTION:Builder Roundtable\n\n\n\nThe Builder Roundtable is a small group created specifically for builders and remodelers to discuss pertinent local issues of interest along with sharing best practices and strategies for dealing with the ever changing costs and codes.\n\n\n\nThese meetings are held at the BLSJ Office and are only open to builder and remodeler members.\n\n\n\nBy attending these roundtable discussions\, builders can exchange ideas and insights with their peers and stay up-to-date on industry trends and developments.
X-ALT-DESC;FMTTYPE=text/html:<span style="font-size:14px\;"><span style="font-family:arial\;">Builder Roundtable<br />\n<br />\nThe Builder Roundtable is a small group created specifically for builders and remodelers to discuss pertinent local issues of interest along with sharing best practices and strategies for dealing with the ever changing costs and codes.<br />\n<br />\nThese meetings are held at the BLSJ Office and are only open to builder and remodeler members.<br />\n<br />\nBy attending these roundtable discussions\, builders can exchange ideas and insights with their peers and stay up-to-date on industry trends and developments.</span></span><br />\n<br />\n&nbsp\;
LOCATION:Builders League of South Jersey 114 Haddontowne Court Cherry Hill\, NJ 08034
UID:e.9292.3912
SEQUENCE:3
DTSTAMP:20260424T223721Z
URL:http://blsj.memberzone.com/events/details/builder-and-remodeler-roundtable-3912
END:VEVENT

END:VCALENDAR
