BEGIN:VCALENDAR
VERSION:2.0
PRODID:-//ChamberMaster//Event Calendar 2.0//EN
METHOD:PUBLISH
X-PUBLISHED-TTL:P3D
REFRESH-INTERVAL:P3D
CALSCALE:GREGORIAN
BEGIN:VEVENT
DTSTART:20260210T160000Z
DTEND:20260210T180000Z
X-MICROSOFT-CDO-ALLDAYEVENT:FALSE
SUMMARY:Associate Committee Winter Open House & Member Orientation
DESCRIPTION:ASSOCIATES COMMITTEE\n\nWINTER OPEN HOUSE \n\n& MEMBER ORIENTATION\n\n(FOR ALL NEW & CURRENT BUILDERS LEAGUE MEMBERS)\n\nWHEN: TUESDAY\, FEBRUARY 10\, 2026\n\nTIME: 11:00AM   1:00PM\n\nWHERE: BUILDERS LEAGUE OF SOUTH JERSEY\n\nLUNCH IS ON US!\n\n (but you need to register)  \n\nThis is an informative orientation to welcome BLSJ's newest members. \n\nHowever\, it is also a great refresher for those who have been involved with the BLSJ for years.  \n\nDuring this orientation\, you will learn about the different Councils\, Committees\, Events\, \n\nand many perks of your membership and MORE!\n\n \n\nFind Out: Everything you need to know about the BLSJ (Builders League of South Jersey) and your membership benefits from NJBA (New Jersey Builders Association)\, NAHB (National Association of Home Builders) and MORE!\n\nPlus\, you get to meet a couple of people before our next General Membership Event so you will recognize a face or two.\n\n\n\nThis orientation will be presented by: \n\nJoe Campbell\, Champion Disposal   Vice President of Associate Affairs\n\n&\n\nHeather Sabetta\, Ace Engineering & Construction Services   2nd Vice President of Associate Affairs\n\n \n\nBring Plenty of Business Cards
X-ALT-DESC;FMTTYPE=text/html:<div style="text-align: center\;"><span style="font-family:times new roman\,serif\;"><span style="font-size:36.0pt\;">ASSOCIATES COMMITTEE</span></span></div>\n\n<div style="text-align: center\;"><span style="color:#FF6600\;"><span style="font-family:stencil\;"><span style="font-size:24.0pt\;">WINTER OPEN HOUSE </span></span></span><br />\n<span style="color:#FF6600\;"><span style="font-family:stencil\;"><span style="font-size:24.0pt\;">&amp\; MEMBER ORIENTATION</span></span></span><br />\n<span style="font-family:times new roman\,serif\;"><span style="font-size:16.0pt\;">(FOR ALL NEW &amp\; CURRENT BUILDERS LEAGUE MEMBERS)</span></span><br />\n<span style="font-family:times new roman\,serif\;"><span style="font-size:16.0pt\;">WHEN: TUESDAY\, FEBRUARY 10\, 2026</span></span><br />\n<span style="font-family:times new roman\,serif\;"><span style="font-size:16.0pt\;">TIME: 11:00AM &ndash\; 1:00PM</span></span><br />\n<span style="font-family:times new roman\,serif\;"><span style="font-size:16.0pt\;">WHERE: BUILDERS LEAGUE OF SOUTH JERSEY</span></span></div>\n\n<div style="text-align: center\;"><span style="color:#FF6600\;"><span style="font-family:stencil\;"><span style="font-size:24.0pt\;">LUNCH IS ON US!<br />\n<span style="font-size:16px\;">&nbsp\;(but you need to register)&nbsp\;&nbsp\;</span></span></span></span></div>\n\n<div style="text-align: center\;"><span style="background:white\;"><span style="color:black\;"><span style="font-family:times new roman\,serif\;"><span style="font-size:14.0pt\;">This is an informative orientation to welcome BLSJ&rsquo\;s newest members. </span></span></span></span><br />\n<span style="background:white\;"><span style="color:black\;"><span style="font-family:times new roman\,serif\;"><span style="font-size:14.0pt\;">However\, it is also a great refresher for those who have been involved with the BLSJ for years.&nbsp\; </span></span></span></span><br />\n<span style="background:white\;"><span style="color:black\;"><span style="font-family:times new roman\,serif\;"><span style="font-size:14.0pt\;">During this orientation\, you will learn about the different Councils\, Committees\, Events\, </span></span></span></span><br />\n<span style="background:white\;"><span style="color:black\;"><span style="font-family:times new roman\,serif\;"><span style="font-size:14.0pt\;">and many perks of your membership and MORE!</span></span></span></span><br />\n&nbsp\;<br />\n<span style="font-family:times new roman\,serif\;"><span style="font-size:14.0pt\;">Find Out: Everything you need to know about the BLSJ (Builders League of South Jersey) and your membership benefits from NJBA (New Jersey Builders Association)\, NAHB (National Association of Home Builders) and MORE!</span></span><br />\n<span style="background:white\;"><span style="color:black\;"><span style="font-family:times new roman\,serif\;"><span style="font-size:14.0pt\;">Plus\, you get to meet a couple of people before our next General Membership Event so you will recognize a face or two.</span></span></span></span><br />\n<br />\n<span style="font-family:times new roman\,serif\;"><span style="font-size:14.0pt\;"><span style="color:black\;">This orientation will be presented by: </span></span></span><br />\n<span style="color:black\;"><span style="font-family:times new roman\,serif\;"><span style="font-size:14.0pt\;">Joe Campbell\, Champion Disposal &ndash\; Vice President of Associate Affairs</span></span></span><br />\n<span style="color:black\;"><span style="font-family:times new roman\,serif\;"><span style="font-size:14.0pt\;">&amp\;</span></span></span><br />\n<span style="color:black\;"><span style="font-family:times new roman\,serif\;"><span style="font-size:14.0pt\;">Heather Sabetta\, Ace Engineering &amp\; Construction Services &ndash\; 2<sup>nd</sup> Vice President of Associate Affairs</span></span></span><br />\n&nbsp\;<br />\n<span style="color:#FF6600\;"><span style="font-family:stencil\;"><span style="font-size:24.0pt\;">Bring Plenty of Business Cards</span></span></span></div>\n
LOCATION:
UID:e.9292.3899
SEQUENCE:3
DTSTAMP:20260425T001718Z
URL:http://blsj.memberzone.com/events/details/associate-committee-winter-open-house-member-orientation-3899
END:VEVENT

END:VCALENDAR
