BEGIN:VCALENDAR
VERSION:2.0
PRODID:-//ChamberMaster//Event Calendar 2.0//EN
METHOD:PUBLISH
X-PUBLISHED-TTL:P3D
REFRESH-INTERVAL:P3D
CALSCALE:GREGORIAN
BEGIN:VEVENT
DTSTART:20251007T140000Z
DTEND:20251007T150000Z
X-MICROSOFT-CDO-ALLDAYEVENT:FALSE
SUMMARY:Associate Committee Meeting - South Jersey Builder & Remodeler Series
DESCRIPTION:The Associates Committee's South Jersey Builder & Remodeler Series presents a different builder or remodeler at each of its meetings and gives members the opportunity to learn more about their company\, how they work with subcontractors and product suppliers\, and the preferred way for new vendors to approach them for business.    \n\n \n Guest Speaker:   \n\nJason Schaeffer\n\n\nPresident\, Schaeffer Homes\n\n\n\nFor three generations the Schaeffer family has been dedicated to the mission of providing the people of the Delaware Valley with quality- built\, affordably priced new homes.\nThomas Schaeffer Sr. learned the craft of woodworking in the Army in WWII\, and afterwards he immediately put his new skills to work in the homebuilding industry.\n\nThe second generation was led by Thomas "Tim" Schaeffer Jr. Tim worked with his father and many other builders throughout the region\, polishing his craft and building custom homes in Southern New Jersey. Tim eventually founded Tim Schaeffer Communities in 1989.\n\nThe building tradition passed to Tim's son\, Jason Thomas Schaeffer\, who worked his way through the trades while attending high school\, college and graduate business school. Along with the rest of the Family\, Jason continues the tradition as President of Schaeffer Family Homes.
X-ALT-DESC;FMTTYPE=text/html:<span style="font-family:arial\,sans-serif\;"><span style="font-size:12.0pt\;">The Associates Committee&#39\;s <em><span style="font-family:arial\,sans-serif\;">South Jersey Builder &amp\; Remodeler Series</span></em> presents a different builder or remodeler at each of its meetings and gives members the opportunity to learn more about their company\, how they work with subcontractors and product suppliers\, and the preferred way for new vendors to approach them for business.&nbsp\; &nbsp\;&nbsp\;</span></span><br />\n&nbsp\;\n<div style="text-align: center\;"><span style="font-family:arial\,sans-serif\;"><span style="font-size:12.0pt\;">&nbsp\;<u><strong>Guest Speaker:</strong></u>&nbsp\; &nbsp\;</span></span><br />\n<span style="font-size:20px\;"><span class="artdeco-hoverable-trigger artdeco-hoverable-trigger--content-placed-bottom artdeco-hoverable-trigger--is-hoverable ember-view" id="ember38" tabindex="-1">Jason Schaeffer</span></span></div>\n\n<div class="CZLoXrfsTegRStmxfmBlsTePhlIxQyhsacU\n          ">\n<div class="text-body-medium break-words" data-generated-suggestion-target="urn:li:fsu_profileActionDelegate:79024570" style="text-align: center\;"><span style="font-size:20px\;">President\, Schaeffer Homes</span><br />\n<br />\nFor three generations the Schaeffer family has been dedicated to the mission of providing the people of the Delaware Valley with quality- built\, affordably priced new homes.\n<p>Thomas Schaeffer Sr. learned the craft of woodworking in the Army in WWII\, and afterwards he immediately put his new skills to work in the homebuilding industry.</p>\n\n<p>The second generation was led by Thomas &ldquo\;Tim&rdquo\; Schaeffer Jr. Tim worked with his father and many other builders throughout the region\, polishing his craft and building custom homes in Southern New Jersey. Tim eventually founded Tim Schaeffer Communities in 1989.</p>\n\n<p>The building tradition passed to Tim&rsquo\;s son\, Jason Thomas Schaeffer\, who worked his way through the trades while attending high school\, college and graduate business school. Along with the rest of the Family\, Jason continues the tradition as President of Schaeffer Family Homes.</p>\n</div>\n</div>\n
LOCATION:Builders league of South Jersey 114 Haddontowne Court Cherry Hill\, NJ 08034
UID:e.9292.3846
SEQUENCE:3
DTSTAMP:20260425T110912Z
URL:http://blsj.memberzone.com/events/details/associate-committee-meeting-south-jersey-builder-remodeler-series-3846
END:VEVENT

END:VCALENDAR
