BEGIN:VCALENDAR
VERSION:2.0
PRODID:-//ChamberMaster//Event Calendar 2.0//EN
METHOD:PUBLISH
X-PUBLISHED-TTL:P3D
REFRESH-INTERVAL:P3D
CALSCALE:GREGORIAN
BEGIN:VEVENT
DTSTART:20251008T130000Z
DTEND:20251008T140000Z
X-MICROSOFT-CDO-ALLDAYEVENT:FALSE
SUMMARY:Action Committee Meeting on TEAMS
DESCRIPTION:
X-ALT-DESC;FMTTYPE=text/html:
LOCATION:On Microsoft TEAMS.
UID:e.9292.3860
SEQUENCE:3
DTSTAMP:20260425T110855Z
URL:http://blsj.memberzone.com/events/details/action-committee-meeting-on-teams-3860
END:VEVENT

END:VCALENDAR
